Workbook

Sheet Berechnungstool
A1: Berechnungstool zur Bestimmung der vom BMI förderbaren Personalkosten
A2: Mitarbeiter | B2: Max Mustermann
A3: Eintragungen | D3: Anmerkungen | E3: Aberkennungsgrund durch BMI oder externe Stellen | F3: Rechtsgrundlage des Aberkennungsgrunds lt. Guidance Document
A4: Eintragung durch Förderungsnehmer | B4: Abrechnungsjahr | C4: 2026
A5: Eintragung durch Förderungsnehmer | B5: Funktion des Mitarbeiters im Vorhaben (siehe Merkblatt)
A6: Eintragung durch Förderungsnehmer | B6: Einstufung des Mitarbeiters gemäß Fuktion im Vorhaben
A7: Eintragung durch Förderungsnehmer | B7: Beschäftigungsausmaß des Mitarbeiters (in Monaten) | C7: 12
A8: Eintragung durch Förderungsnehmer | B8: Beschäftigungsausmaß des Mitarbeiters im Vorhaben (in Monaten)
A9: Eintragung durch Förderungsnehmer | B9: Wochenarbeitszeit des maßgeblichen KV, Branchen-KV, BV etc. (in Stunden) | C9: 37
A10: Eintragung durch Förderungsnehmer | B10: Wochenarbeitszeit des Mitarbeiters (in Stunden) | C10: 37
A11: Berechnung | B11: Beschäftigungsausmaß des Mitarbeiters (in Prozent) | C11: 1
A12: Eintragung durch Förderungsnehmer | B12: Durchschnittliches Gehalt (pro Monat in Euro) | C12: 4199.4
A13: Eintragung durch Förderungsnehmer | B13: Gehalt Vollzeit lt. KV (pro Monat in Euro) | C13: 4199.4
A14: Berechnung | B14: Gehalt Teilzeit lt. KV (pro Monat in Euro) | C14: =C13*C11 -> 4199.4
A15: Berechnung | B15: Jahresarbeitszeit Soll (in Stunden) | C15: =C10*42 -> 1554
A16: Eintragung durch Förderungsnehmer | B16: Jahresarbeitszeit für das Vorhaben (in Stunden) | C16: 1700
A17: Eintragung durch Förderungsnehmer | B17: eingereichte Personalkosten inkl. DG-Abgaben (in Euro) | C17: 9000
A19: Eintragung durch BMI | B19: Einstufung Gehaltssschema des Bundes bzw. Funktion im Vorhaben | C19: v2/3
A20: Eintragung durch BMI | B20: Gehalt nach dem Gehaltsschema des Bundes bzw. Funktion im Vorhaben Vollzeit (pro Monat in Euro) | C20: 3304.6
A21: Eintragung durch BMI | B21: Gehalt nach dem Gehaltsschema des Bundes bzw. Funktion im Vorhaben Teilzeit (pro Monat in Euro) | C21: =C20*C11 -> 3304.6
A22: Eintragung durch BMI | B22: Jahresdurchschnittsgehalt | C22: =C12 -> 4199.4
A23: Eintragung durch BMI | B23: Niedrigster Betrag/Vergleich | C23: =MIN(C22, C21,C14) -> 3304.6
A24: Eintragung durch BMI | B24: Jahresgehalt inkl. DG | C24: =D39 -> 0
A25: Eintragung durch BMI | B25: Jahresarbeitszeit Soll | C25: =$C$15 -> 1554
A26: Berechnung | B26: Stunden für das Vorhaben | C26: =IF(C16>C15,C15,C16) -> 1554
A27: Eintragung durch BMI | B27: Prozentsatz | C27: =C26/C25 -> 1
A28: vom BMI förderbare Personalkosten Mitarbeiter: | C28: =C24*C27 -> 0
A30: förderfähige Lohnbestandteile | C30: Monatlich | D30: Förderungszeitraum | H30: Multiplikation der monatlichen Werte mit der Anzahl der Monate, in denen der Mitarbeiter im Vorhaben tätig ist, um die Summe über den gesamten Förderungszeitraum (Gehalt inkl. DG) zu ermitteln.
A31: Eintragung durch Förderungsnehmer | B31: Gehalt | C31: 0 | D31: =C31*C8 -> 0 | H31: Eintragung durch den Förderungsnehmer, was geplant ist, diesem Mitarbeiter pro Monat zu zahlen. Wenn dieser Betrag passt (es muss innerhalb der BMI-Obergrenze und des Kollektivvertrages liegen), passt auch die Höhe der förderbaren BMI-Personalkosten.
A32: Berechnung | B32: Aliquote SZ | C32: =C31/6 -> 0 | D32: =C32*C8 -> 0 | H32: Aliquote Sonderzahlung: wird mit 1/6 des Gehalts ermittelt.
A33: Berechnung | B33: SV DG | C33: =IF(C31>F33,F33*E33,(C31*E33)) -> 0 | D33: =C33*C8 -> 0 | E33: {=_xlfn.IFS($C$4=2024,Lohnnebenkosten!C2,$C$4=2025,Lohnnebenkosten!D2,$C$4=2026,IF(G38=TRUE,Lohnnebenkosten!E2,Lohnnebenkosten!E3))} -> 0.2098 | F33: {=_xlfn.IFS($C$4=2024,Lohnnebenkosten!C4,$C$4=2025,Lohnnebenkosten!D4,$C$4=2026,Lohnnebenkosten!E4)} -> 6930 | H33: Sozialversicherungsbeitrag Dienstgeber: Bemessungsgrundlage bildet das durchschnittliche Gehalt pro Monat. Der Beitrag wird bis zur Höchstbeitragsgrundlage anhand des Wertes (aus F33) berechnet.
A34: Berechnung | B34: SV SZ | C34: =(C32)*E34 -> 0 | D34: =C34*C8 -> 0 | E34: {=_xlfn.IFS($C$4=2024,Lohnnebenkosten!C5,$C$4=2025,Lohnnebenkosten!D5,$C$4=2026,Lohnnebenkosten!E5)} -> 0.2048 | H34: Sozialversicherungsbeitrag auf Sonderzahlungen: Bemessungsgrundlage bildet die aliquote Sonderzahlung, welche mit dem Wert (aus E36) multipliziert wird.
A35: Berechnung | B35: DB | C35: =C31*E35 -> 0 | D35: =C35*C8 -> 0 | E35: {=_xlfn.IFS($C$4=2024,Lohnnebenkosten!C6,$C$4=2025,Lohnnebenkosten!D6,$C$4=2026,Lohnnebenkosten!E6)} -> 0.037 | H35: Dienstgeberbeitrag zum Familienlastenausgleichsfond: Dieser entspricht dem Wert (aus D35) multipliziert mit dem Gehalt inkl. der aliquoten Sonderzahlung .
A36: Berechnung | B36: BV-Beitrag | C36: =(C31+C32)*E36 -> 0 | D36: =C36*C8 -> 0 | E36: {=_xlfn.IFS($C$4=2024,Lohnnebenkosten!C7,$C$4=2025,Lohnnebenkosten!D7,$C$4=2026,Lohnnebenkosten!E7)} -> 0.0153 | H36: Betriebliche Vorsorge Dieser entspricht dem Wert (aus D36) multipliziert mit dem Gehalt inkl. der aliquoten Sonderzahlung.
A37: Eintragung durch Förderungsnehmer | C37: =IF(G37=TRUE,(C31+C32)*E37,0) -> 0 | D37: =C37*C8 -> 0 | E37: {=_xlfn.IFS($C$4=2024,Lohnnebenkosten!C8,$C$4=2025,Lohnnebenkosten!D8,$C$4=2026,Lohnnebenkosten!E8)} -> 0.03 | G37: FALSE | H37: Kommunalsteuer: Nicht jeder Arbeitgeber unterliegt der Kommunalsteuer, daher muss vom Förderungsnehmer angegeben werden, ob dies zu entrichten ist oder nicht. Diese entspricht dem Wert (aus D37) multipliziert mit dem Gehalt inkl. der aliquoten Sonderzahlung. In einem weiteren Schritt kann dies ausgelesen werden. Wird die Steuer am Lohnkonto angeführt und bezahlt, unterliegt der Förderungsnehmer der Kommunalsteuer, ansonsten nicht.
A38: Eintragung durch Förderungsnehmer | C38: =D38/C8 -> #DIV/0! | D38: =IF(G38=TRUE,ROUNDUP(C8*4.345,0)*2,0) -> 0 | E38: 2 Euro pro Woche | G38: FALSE | H38: Wiener Dienstgebergabgabe oder U-Bahnsteuer: Diese entspricht 2 Euro pro angefangener Woche in der der Mitarbeiter in einem Unternehmen mit Sitz in Wien tätig war. Multiplikation der Monate, in denen der Mitarbeiter für das Projekt tätig war mit dem Wert 4,345, um die Wochen zu ermitteln. Wie bei der Kommunalsteuer unterliegen nur Wiener Unternehmen, Vereine etc. dieser Steuer. Der Förderungsnehmer muss dies angeben oder in einem weiteren Schritt aus dem Lohnkonto auslesen. Wenn vorhanden und die U-Bahnsteuer bezahlt dann ein Hackerl setzen, bei nein ist kein Hackerl zu setzen.
A39: vom BMI förderbare Personalkosten Mitarbeiter: | D39: =SUM(D31:D38) -> 0 | E39: Die Werte in den Feldern E33-E38 und F33 sind fixe Werte und werden pro Jahr ausgegeben. Diese unterliegen jedoch Veränderungen.

Sheet Lohnnebenkosten
B1: Lohnnebenkosten | C1: 2024 | D1: 2025 | E1: 2026
B2: SV DG (Wien) | C2: 0.2098 | D2: 0.2098 | E2: =20.38%+0.75%+0.1% -> 0.2123
B3: SV DG (Rest-Öst.) | E3: =20.38%+0.5%+0.1% -> 0.2098
B4: Höchstbeitragsgrundlage | C4: 6060 | D4: 6450 | E4: 6930
B5: SV SZ | C5: 0.2048 | D5: 0.2048 | E5: 0.2048
B6: DB | C6: 0.037 | D6: 0.037 | E6: 0.037
B7: BV-Beitrag | C7: 0.0153 | D7: 0.0153 | E7: 0.0153
B8: Kommunalsteuer | C8: 0.03 | D8: 0.03 | E8: 0.03
B9: U-Bahn in €/Woche | C9: 2 | D9: 2 | E9: 2
